BEGIN:VCALENDAR
VERSION:2.0
PRODID:https://www.kufer.de/kuferweb / DE
METHOD:PUBLISH
CALSCALE:GREGORIAN
X-WR-TIMEZONE:Europe/Berlin
BEGIN:VTIMEZONE
TZID:Europe/Berlin
X-LIC-LOCATION:Europe/Berlin
BEGIN:DAYLIGHT
TZOFFSETFROM:+0100
TZOFFSETTO:+0200
TZNAME:CEST
DTSTART:19700329T020000
RRULE:FREQ=YEARLY;INTERVAL=1;BYDAY=-1SU;BYMONTH=3
END:DAYLIGHT
BEGIN:STANDARD
TZOFFSETFROM:+0200
TZOFFSETTO:+0100
TZNAME:CET
DTSTART:19701025T030000
RRULE:FREQ=YEARLY;INTERVAL=1;BYDAY=-1SU;BYMONTH=10
END:STANDARD
END:VTIMEZONE
BEGIN:VEVENT
DTSTAMP:20260421T114232
DTSTART;TZID=Europe/Berlin:20261208T090000
DTEND;TZID=Europe/Berlin:20261208T161500
UID:262-A611-20261208T090000@EV. FZ IZITZEHOE
SUMMARY:Systemisches Aggressionsmanagment II (262-A611) 
LOCATION:Via Nova Akademie Schütterberg 19, 25524 Itzehoe
END:VEVENT
BEGIN:VEVENT
DTSTAMP:20260421T114232
DTSTART;TZID=Europe/Berlin:20261209T090000
DTEND;TZID=Europe/Berlin:20261209T161500
UID:262-A611-20261209T090000@EV. FZ IZITZEHOE
SUMMARY:Systemisches Aggressionsmanagment II (262-A611) 
LOCATION:Via Nova Akademie Schütterberg 19, 25524 Itzehoe
END:VEVENT
END:VCALENDAR